Package: spikeLI Version: 2.60.0 Command: rm -rf spikeLI.buildbin-libdir && mkdir spikeLI.buildbin-libdir && /Users/biocbuild/BBS/utils/build-universal.sh spikeLI_2.60.0.tar.gz /Library/Frameworks/R.framework/Resources/bin/R spikeLI.buildbin-libdir StartedAt: 2023-10-19 17:30:09 -0400 (Thu, 19 Oct 2023) EndedAt: 2023-10-19 17:30:15 -0400 (Thu, 19 Oct 2023) EllapsedTime: 5.8 seconds RetCode: 0 Status: OK PackageFile: spikeLI_2.60.0.tgz PackageFileSize: 416.7 KiB