git_url: https://git.bioconductor.org/packages/sevenC git_branch: RELEASE_3_17 git_last_commit: 167f9bd git_last_commit_date: 2023-04-25 11:01:30 -0400 (Tue, 25 Apr 2023) Package: sevenC Version: 1.20.0 Maintainer: Jonas Ibn-Salem MaintainerEmail: jonas.ibn-salem at tron-mainz.de