Package: sesame Version: 1.18.4 Command: /Library/Frameworks/R.framework/Resources/bin/R CMD INSTALL sesame StartedAt: 2023-10-15 20:09:03 -0400 (Sun, 15 Oct 2023) EndedAt: 2023-10-15 20:10:04 -0400 (Sun, 15 Oct 2023) EllapsedTime: 61.1 seconds RetCode: 0 Status: OK