Package: sesame Version: 1.18.4 Command: /Library/Frameworks/R.framework/Resources/bin/R CMD build --keep-empty-dirs --no-resave-data sesame StartedAt: 2023-10-16 20:14:23 -0400 (Mon, 16 Oct 2023) EndedAt: 2023-10-16 20:22:37 -0400 (Mon, 16 Oct 2023) EllapsedTime: 493.8 seconds RetCode: 0 Status: OK PackageFile: sesame_1.18.4.tar.gz PackageFileSize: 18.57 MiB