Package: sesame Version: 1.18.4 Command: rm -rf sesame.buildbin-libdir && mkdir sesame.buildbin-libdir && /Users/biocbuild/BBS/utils/build-universal.sh sesame_1.18.4.tar.gz /Library/Frameworks/R.framework/Resources/bin/R sesame.buildbin-libdir StartedAt: 2023-10-19 17:11:27 -0400 (Thu, 19 Oct 2023) EndedAt: 2023-10-19 17:13:15 -0400 (Thu, 19 Oct 2023) EllapsedTime: 107.4 seconds RetCode: 0 Status: OK PackageFile: sesame_1.18.4.tgz PackageFileSize: 19.18 MiB