Package: seq.hotSPOT Version: 1.0.0 Command: /Library/Frameworks/R.framework/Resources/bin/R CMD INSTALL seq.hotSPOT StartedAt: 2023-10-15 15:34:29 -0400 (Sun, 15 Oct 2023) EndedAt: 2023-10-15 15:34:34 -0400 (Sun, 15 Oct 2023) EllapsedTime: 5.4 seconds RetCode: 0 Status: OK