Package: safe Version: 3.40.1 Command: /Library/Frameworks/R.framework/Resources/bin/R CMD build --keep-empty-dirs --no-resave-data safe StartedAt: 2023-10-16 17:49:14 -0400 (Mon, 16 Oct 2023) EndedAt: 2023-10-16 17:56:37 -0400 (Mon, 16 Oct 2023) EllapsedTime: 443.1 seconds RetCode: 0 Status: OK PackageFile: safe_3.40.1.tar.gz PackageFileSize: 712.9 KiB