Package: rsemmed Version: 1.10.0 Command: /Library/Frameworks/R.framework/Resources/bin/R CMD check --install=check:rsemmed.install-out.txt --library=/Library/Frameworks/R.framework/Resources/library --no-vignettes --timings rsemmed_1.10.0.tar.gz StartedAt: 2023-10-18 20:41:20 -0400 (Wed, 18 Oct 2023) EndedAt: 2023-10-18 20:42:31 -0400 (Wed, 18 Oct 2023) EllapsedTime: 71.8 seconds RetCode: 0 Status: OK CheckDir: rsemmed.Rcheck Warnings: 0