Package: rpx Version: 2.8.0 Command: rm -rf rpx.buildbin-libdir && mkdir rpx.buildbin-libdir && /Users/biocbuild/BBS/utils/build-universal.sh rpx_2.8.0.tar.gz /Library/Frameworks/R.framework/Resources/bin/R rpx.buildbin-libdir StartedAt: 2023-09-28 14:40:58 -0400 (Thu, 28 Sep 2023) EndedAt: 2023-09-28 14:41:18 -0400 (Thu, 28 Sep 2023) EllapsedTime: 20.2 seconds RetCode: 0 Status: OK PackageFile: rpx_2.8.0.tgz PackageFileSize: 482.3 KiB