Package: rcellminer Version: 2.22.0 Command: rm -rf rcellminer.buildbin-libdir && mkdir rcellminer.buildbin-libdir && /Users/biocbuild/BBS/utils/build-universal.sh rcellminer_2.22.0.tar.gz /Library/Frameworks/R.framework/Resources/bin/R rcellminer.buildbin-libdir StartedAt: 2023-10-19 16:14:34 -0400 (Thu, 19 Oct 2023) EndedAt: 2023-10-19 16:14:55 -0400 (Thu, 19 Oct 2023) EllapsedTime: 21.1 seconds RetCode: 0 Status: OK PackageFile: rcellminer_2.22.0.tgz PackageFileSize: 2.578 MiB