git_url: https://git.bioconductor.org/packages/rcellminer git_branch: RELEASE_3_17 git_last_commit: 5a1073d git_last_commit_date: 2023-04-25 10:38:33 -0400 (Tue, 25 Apr 2023) Package: rcellminer Version: 2.22.0 Maintainer: Augustin Luna , Vinodh Rajapakse MaintainerEmail: vinodh.rajapakse at nih.gov>, Fathi Elloumi