Package: rWikiPathways Version: 1.20.0 Command: rm -rf rWikiPathways.buildbin-libdir && mkdir rWikiPathways.buildbin-libdir && /Users/biocbuild/BBS/utils/build-universal.sh rWikiPathways_1.20.0.tar.gz /Library/Frameworks/R.framework/Resources/bin/R rWikiPathways.buildbin-libdir StartedAt: 2023-10-19 16:48:14 -0400 (Thu, 19 Oct 2023) EndedAt: 2023-10-19 16:48:31 -0400 (Thu, 19 Oct 2023) EllapsedTime: 17.3 seconds RetCode: 0 Status: OK PackageFile: rWikiPathways_1.20.0.tgz PackageFileSize: 2.843 MiB