git_url: https://git.bioconductor.org/packages/rRDP git_branch: RELEASE_3_17 git_last_commit: 3201d87 git_last_commit_date: 2023-04-25 10:34:48 -0400 (Tue, 25 Apr 2023) Package: rRDP Version: 1.34.0 Maintainer: Michael Hahsler MaintainerEmail: mhahsler at lyle.smu.edu