Package: qsvaR Version: 1.4.0 Command: /Library/Frameworks/R.framework/Resources/bin/R CMD INSTALL qsvaR StartedAt: 2023-10-15 18:35:07 -0400 (Sun, 15 Oct 2023) EndedAt: 2023-10-15 18:36:01 -0400 (Sun, 15 Oct 2023) EllapsedTime: 53.5 seconds RetCode: 0 Status: OK