Package: qsvaR Version: 1.4.0 Command: rm -rf qsvaR.buildbin-libdir && mkdir qsvaR.buildbin-libdir && /Users/biocbuild/BBS/utils/build-universal.sh qsvaR_1.4.0.tar.gz /Library/Frameworks/R.framework/Resources/bin/R qsvaR.buildbin-libdir StartedAt: 2023-10-19 16:08:13 -0400 (Thu, 19 Oct 2023) EndedAt: 2023-10-19 16:09:33 -0400 (Thu, 19 Oct 2023) EllapsedTime: 80.2 seconds RetCode: 0 Status: OK PackageFile: qsvaR_1.4.0.tgz PackageFileSize: 3.504 MiB