Package: pvca Version: 1.40.0 Command: /Library/Frameworks/R.framework/Resources/bin/R CMD INSTALL pvca StartedAt: 2023-10-15 18:02:54 -0400 (Sun, 15 Oct 2023) EndedAt: 2023-10-15 18:03:15 -0400 (Sun, 15 Oct 2023) EllapsedTime: 20.1 seconds RetCode: 0 Status: OK