Package: pvca Version: 1.40.0 Command: /Library/Frameworks/R.framework/Resources/bin/R CMD check --install=check:pvca.install-out.txt --library=/Library/Frameworks/R.framework/Resources/library --no-vignettes --timings pvca_1.40.0.tar.gz StartedAt: 2023-10-18 16:30:14 -0400 (Wed, 18 Oct 2023) EndedAt: 2023-10-18 16:32:21 -0400 (Wed, 18 Oct 2023) EllapsedTime: 127.2 seconds RetCode: 0 Status: OK CheckDir: pvca.Rcheck Warnings: 0