Package: pvca Version: 1.40.0 Command: /Library/Frameworks/R.framework/Resources/bin/R CMD build --keep-empty-dirs --no-resave-data pvca StartedAt: 2023-10-16 15:14:08 -0400 (Mon, 16 Oct 2023) EndedAt: 2023-10-16 15:14:54 -0400 (Mon, 16 Oct 2023) EllapsedTime: 46.2 seconds RetCode: 0 Status: OK PackageFile: pvca_1.40.0.tar.gz PackageFileSize: 217.4 KiB