Package: protGear Version: 1.4.0 Command: /Library/Frameworks/R.framework/Resources/bin/R CMD INSTALL protGear StartedAt: 2023-10-15 19:46:28 -0400 (Sun, 15 Oct 2023) EndedAt: 2023-10-15 19:47:15 -0400 (Sun, 15 Oct 2023) EllapsedTime: 47.2 seconds RetCode: 0 Status: OK