git_url: https://git.bioconductor.org/packages/protGear git_branch: RELEASE_3_17 git_last_commit: 7efe446 git_last_commit_date: 2023-04-25 11:37:11 -0400 (Tue, 25 Apr 2023) Package: protGear Version: 1.4.0 Maintainer: Kennedy Mwai MaintainerEmail: keniajin at gmail.com