git_url: https://git.bioconductor.org/packages/profileScoreDist git_branch: RELEASE_3_17 git_last_commit: a2da739 git_last_commit_date: 2023-04-25 10:43:09 -0400 (Tue, 25 Apr 2023) Package: profileScoreDist Version: 1.28.0 Maintainer: Paal O. Westermark MaintainerEmail: pal-olof.westermark at charite.de