Package: proDA Version: 1.14.0 Command: /Library/Frameworks/R.framework/Resources/bin/R CMD INSTALL proDA StartedAt: 2023-10-15 15:29:16 -0400 (Sun, 15 Oct 2023) EndedAt: 2023-10-15 15:29:55 -0400 (Sun, 15 Oct 2023) EllapsedTime: 39.0 seconds RetCode: 0 Status: OK