git_url: https://git.bioconductor.org/packages/proDA git_branch: RELEASE_3_17 git_last_commit: afc8ae1 git_last_commit_date: 2023-04-25 11:11:30 -0400 (Tue, 25 Apr 2023) Package: proDA Version: 1.14.0 Maintainer: Constantin Ahlmann-Eltze MaintainerEmail: artjom31415 at googlemail.com