Package: pmm Version: 1.32.0 Command: /Library/Frameworks/R.framework/Resources/bin/R CMD INSTALL pmm StartedAt: 2023-10-15 17:59:57 -0400 (Sun, 15 Oct 2023) EndedAt: 2023-10-15 18:00:09 -0400 (Sun, 15 Oct 2023) EllapsedTime: 12.6 seconds RetCode: 0 Status: OK