git_url: https://git.bioconductor.org/packages/plgem git_branch: RELEASE_3_17 git_last_commit: c4e8998 git_last_commit_date: 2023-04-25 09:41:44 -0400 (Tue, 25 Apr 2023) Package: plgem Version: 1.72.0 Maintainer: Norman Pavelka MaintainerEmail: normanpavelka at gmail.com