Package: phenoTest Version: 1.48.0 Command: /Library/Frameworks/R.framework/Resources/bin/R CMD check --install=check:phenoTest.install-out.txt --library=/Library/Frameworks/R.framework/Resources/library --no-vignettes --timings phenoTest_1.48.0.tar.gz StartedAt: 2023-10-18 14:36:31 -0400 (Wed, 18 Oct 2023) EndedAt: 2023-10-18 14:42:42 -0400 (Wed, 18 Oct 2023) EllapsedTime: 371.3 seconds RetCode: 0 Status: WARNINGS CheckDir: phenoTest.Rcheck Warnings: 1