Package: pgca Version: 1.24.0 Command: /Library/Frameworks/R.framework/Resources/bin/R CMD check --install=check:pgca.install-out.txt --library=/Library/Frameworks/R.framework/Resources/library --no-vignettes --timings pgca_1.24.0.tar.gz StartedAt: 2023-10-18 14:25:41 -0400 (Wed, 18 Oct 2023) EndedAt: 2023-10-18 14:26:29 -0400 (Wed, 18 Oct 2023) EllapsedTime: 47.4 seconds RetCode: 0 Status: OK CheckDir: pgca.Rcheck Warnings: 0