Package: pcaMethods Version: 1.92.0 Command: rm -rf pcaMethods.buildbin-libdir && mkdir pcaMethods.buildbin-libdir && /Users/biocbuild/BBS/utils/build-universal.sh pcaMethods_1.92.0.tar.gz /Library/Frameworks/R.framework/Resources/bin/R pcaMethods.buildbin-libdir StartedAt: 2023-10-19 15:46:53 -0400 (Thu, 19 Oct 2023) EndedAt: 2023-10-19 15:47:36 -0400 (Thu, 19 Oct 2023) EllapsedTime: 42.9 seconds RetCode: 0 Status: OK PackageFile: pcaMethods_1.92.0.tgz PackageFileSize: 1.429 MiB