Package: paxtoolsr Version: 1.34.0 Command: /Library/Frameworks/R.framework/Resources/bin/R CMD check --install=check:paxtoolsr.install-out.txt --library=/Library/Frameworks/R.framework/Resources/library --no-vignettes --timings paxtoolsr_1.34.0.tar.gz StartedAt: 2023-10-18 13:46:24 -0400 (Wed, 18 Oct 2023) EndedAt: 2023-10-18 13:50:41 -0400 (Wed, 18 Oct 2023) EllapsedTime: 257.2 seconds RetCode: 1 Status: ERROR CheckDir: paxtoolsr.Rcheck Warnings: NA