Package: panp Version: 1.70.0 Command: /Library/Frameworks/R.framework/Resources/bin/R CMD build --keep-empty-dirs --no-resave-data panp StartedAt: 2023-10-16 13:43:52 -0400 (Mon, 16 Oct 2023) EndedAt: 2023-10-16 13:44:18 -0400 (Mon, 16 Oct 2023) EllapsedTime: 26.3 seconds RetCode: 0 Status: OK PackageFile: panp_1.70.0.tar.gz PackageFileSize: 670.6 KiB