git_url: https://git.bioconductor.org/packages/omada git_branch: RELEASE_3_17 git_last_commit: 0a39c3a git_last_commit_date: 2023-04-25 11:39:47 -0400 (Tue, 25 Apr 2023) Package: omada Version: 1.2.0 Maintainer: Sokratis Kariotis MaintainerEmail: sokratiskariotis at gmail.com