Back to Mac ARM64 build report for BioC 3.17 |
|
This page was generated on 2023-10-20 09:37:54 -0400 (Fri, 20 Oct 2023).
Hostname | OS | Arch (*) | R version | Installed pkgs |
---|---|---|---|---|
kjohnson2 | macOS 12.6.1 Monterey | arm64 | 4.3.1 (2023-06-16) -- "Beagle Scouts" | 4347 |
Click on any hostname to see more info about the system (e.g. compilers) (*) as reported by 'uname -p', except on Windows and Mac OS X |
To the developers/maintainers of the oligoClasses package: - Use the following Renviron settings to reproduce errors and warnings. - If 'R CMD check' started to fail recently on the Linux builder(s) over a missing dependency, add the missing dependency to 'Suggests:' in your DESCRIPTION file. See Renviron.bioc for more information. |
Package 1411/2230 | Hostname | OS / Arch | INSTALL | BUILD | CHECK | BUILD BIN | ||||||||
oligoClasses 1.62.0 (landing page) Benilton Carvalho
| kjohnson2 | macOS 12.6.1 Monterey / arm64 | OK | OK | WARNINGS | OK | ![]() | |||||||
QUICK STATS | OS / Arch | INSTALL | BUILD | CHECK | BUILD BIN | |||||||||||||||||
kjohnson2 | macOS 12.6.1 Monterey / arm64 |
|
|
|
| |||||||||||||||||
Package 1/12 | Hostname | OS / Arch | INSTALL | BUILD | CHECK | BUILD BIN | ||||||||||||||||
affycoretools 1.72.0 (landing page) James W. MacDonald
| kjohnson2 | macOS 12.6.1 Monterey / arm64 | OK | OK | OK | OK | ![]() | |||||||||||||||
Package 2/12 | Hostname | OS / Arch | INSTALL | BUILD | CHECK | BUILD BIN | ||||||||||||||||
cn.farms 1.48.0 (landing page) Andreas Mitterecker
| kjohnson2 | macOS 12.6.1 Monterey / arm64 | OK | OK | OK | OK | ![]() | |||||||||||||||
Package 3/12 | Hostname | OS / Arch | INSTALL | BUILD | CHECK | BUILD BIN | ||||||||||||||||
crlmm 1.58.0 (landing page) Benilton S Carvalho
| kjohnson2 | macOS 12.6.1 Monterey / arm64 | OK | OK | WARNINGS | OK | ![]() | |||||||||||||||
Package 4/12 | Hostname | OS / Arch | INSTALL | BUILD | CHECK | BUILD BIN | ||||||||||||||||
frma 1.52.0 (landing page) Matthew N. McCall
| kjohnson2 | macOS 12.6.1 Monterey / arm64 | OK | OK | OK | OK | ![]() | |||||||||||||||
Package 5/12 | Hostname | OS / Arch | INSTALL | BUILD | CHECK | BUILD BIN | ||||||||||||||||
ITALICS 2.60.0 (landing page) Guillem Rigaill
| kjohnson2 | macOS 12.6.1 Monterey / arm64 | OK | OK | OK | OK | ![]() | |||||||||||||||
Package 6/12 | Hostname | OS / Arch | INSTALL | BUILD | CHECK | BUILD BIN | ||||||||||||||||
mBPCR 1.54.0 (landing page) P.M.V. Rancoita
| kjohnson2 | macOS 12.6.1 Monterey / arm64 | OK | OK | OK | OK | ![]() | |||||||||||||||
Package 7/12 | Hostname | OS / Arch | INSTALL | BUILD | CHECK | BUILD BIN | ||||||||||||||||
mimager 1.24.0 (landing page) Aaron Wolen
| kjohnson2 | macOS 12.6.1 Monterey / arm64 | OK | OK | OK | OK | ![]() | |||||||||||||||
Package 8/12 | Hostname | OS / Arch | INSTALL | BUILD | CHECK | BUILD BIN | ||||||||||||||||
MinimumDistance 1.44.0 (landing page) Robert Scharpf
| kjohnson2 | macOS 12.6.1 Monterey / arm64 | OK | OK | WARNINGS | OK | ![]() | |||||||||||||||
Package 9/12 | Hostname | OS / Arch | INSTALL | BUILD | CHECK | BUILD BIN | ||||||||||||||||
oligo 1.64.1 (landing page) Benilton Carvalho
| kjohnson2 | macOS 12.6.1 Monterey / arm64 | OK | OK | WARNINGS | OK | ![]() | |||||||||||||||
Package 10/12 | Hostname | OS / Arch | INSTALL | BUILD | CHECK | BUILD BIN | ||||||||||||||||
pdInfoBuilder 1.64.0 (landing page) Benilton Carvalho
| kjohnson2 | macOS 12.6.1 Monterey / arm64 | OK | OK | OK | OK | ![]() | |||||||||||||||
Package 11/12 | Hostname | OS / Arch | INSTALL | BUILD | CHECK | BUILD BIN | ||||||||||||||||
puma 3.42.0 (landing page) Xuejun Liu
| kjohnson2 | macOS 12.6.1 Monterey / arm64 | OK | OK | WARNINGS | OK | ![]() | |||||||||||||||
Package 12/12 | Hostname | OS / Arch | INSTALL | BUILD | CHECK | BUILD BIN | ||||||||||||||||
VanillaICE 1.62.0 (landing page) Robert Scharpf
| kjohnson2 | macOS 12.6.1 Monterey / arm64 | OK | OK | WARNINGS | OK | ![]() | |||||||||||||||