Package: nucleoSim Version: 1.28.0 Command: /Library/Frameworks/R.framework/Resources/bin/R CMD check --install=check:nucleoSim.install-out.txt --library=/Library/Frameworks/R.framework/Resources/library --no-vignettes --timings nucleoSim_1.28.0.tar.gz StartedAt: 2023-10-18 11:54:38 -0400 (Wed, 18 Oct 2023) EndedAt: 2023-10-18 11:56:13 -0400 (Wed, 18 Oct 2023) EllapsedTime: 94.1 seconds RetCode: 0 Status: OK CheckDir: nucleoSim.Rcheck Warnings: 0