Package: nuCpos Version: 1.18.0 Command: /Library/Frameworks/R.framework/Resources/bin/R CMD build --keep-empty-dirs --no-resave-data nuCpos StartedAt: 2023-10-16 12:42:21 -0400 (Mon, 16 Oct 2023) EndedAt: 2023-10-16 12:42:54 -0400 (Mon, 16 Oct 2023) EllapsedTime: 32.2 seconds RetCode: 0 Status: OK PackageFile: nuCpos_1.18.0.tar.gz PackageFileSize: 2.392 MiB