Package: netboxr Version: 1.12.0 Command: /Library/Frameworks/R.framework/Resources/bin/R CMD build --keep-empty-dirs --no-resave-data netboxr StartedAt: 2023-10-16 12:10:33 -0400 (Mon, 16 Oct 2023) EndedAt: 2023-10-16 12:14:08 -0400 (Mon, 16 Oct 2023) EllapsedTime: 214.9 seconds RetCode: 0 Status: OK PackageFile: netboxr_1.12.0.tar.gz PackageFileSize: 2.423 MiB