Package: netbiov Version: 1.34.0 Command: /Library/Frameworks/R.framework/Resources/bin/R CMD INSTALL netbiov StartedAt: 2023-10-15 15:11:00 -0400 (Sun, 15 Oct 2023) EndedAt: 2023-10-15 15:11:12 -0400 (Sun, 15 Oct 2023) EllapsedTime: 12.3 seconds RetCode: 0 Status: OK