Package: netbiov Version: 1.34.0 Command: rm -rf netbiov.buildbin-libdir && mkdir netbiov.buildbin-libdir && /Users/biocbuild/BBS/utils/build-universal.sh netbiov_1.34.0.tar.gz /Library/Frameworks/R.framework/Resources/bin/R netbiov.buildbin-libdir StartedAt: 2023-10-19 15:26:21 -0400 (Thu, 19 Oct 2023) EndedAt: 2023-10-19 15:26:40 -0400 (Thu, 19 Oct 2023) EllapsedTime: 19.8 seconds RetCode: 0 Status: OK PackageFile: netbiov_1.34.0.tgz PackageFileSize: 9.461 MiB