git_url: https://git.bioconductor.org/packages/multtest git_branch: RELEASE_3_17 git_last_commit: 6199757 git_last_commit_date: 2023-04-25 09:38:25 -0400 (Tue, 25 Apr 2023) Package: multtest Version: 2.56.0 Maintainer: Katherine S. Pollard MaintainerEmail: katherine.pollard at gladstone.ucsf.edu