Package: multiSight Version: 1.8.0 Command: /Library/Frameworks/R.framework/Resources/bin/R CMD build --keep-empty-dirs --no-resave-data multiSight StartedAt: 2023-10-16 11:41:40 -0400 (Mon, 16 Oct 2023) EndedAt: 2023-10-16 11:45:10 -0400 (Mon, 16 Oct 2023) EllapsedTime: 209.6 seconds RetCode: 0 Status: OK PackageFile: multiSight_1.8.0.tar.gz PackageFileSize: 2.403 MiB