Package: msa Version: 1.32.0 Command: /Library/Frameworks/R.framework/Resources/bin/R CMD check --install=check:msa.install-out.txt --library=/Library/Frameworks/R.framework/Resources/library --no-vignettes --timings msa_1.32.0.tar.gz StartedAt: 2023-10-18 09:25:21 -0400 (Wed, 18 Oct 2023) EndedAt: 2023-10-18 09:28:02 -0400 (Wed, 18 Oct 2023) EllapsedTime: 161.4 seconds RetCode: 0 Status: WARNINGS CheckDir: msa.Rcheck Warnings: 2