Package: msPurity Version: 1.26.0 Command: /Library/Frameworks/R.framework/Resources/bin/R CMD build --keep-empty-dirs --no-resave-data msPurity StartedAt: 2023-10-16 11:23:05 -0400 (Mon, 16 Oct 2023) EndedAt: 2023-10-16 11:40:51 -0400 (Mon, 16 Oct 2023) EllapsedTime: 1065.7 seconds RetCode: 0 Status: OK PackageFile: msPurity_1.26.0.tar.gz PackageFileSize: 11.28 MiB