git_url: https://git.bioconductor.org/packages/mosbi git_branch: RELEASE_3_17 git_last_commit: 57996f1 git_last_commit_date: 2023-04-25 11:34:15 -0400 (Tue, 25 Apr 2023) Package: mosbi Version: 1.6.0 Maintainer: Tim Daniel Rose MaintainerEmail: tim.rose at wzw.tum.de