git_url: https://git.bioconductor.org/packages/monocle git_branch: RELEASE_3_17 git_last_commit: 03bcc6d git_last_commit_date: 2023-04-25 10:32:15 -0400 (Tue, 25 Apr 2023) Package: monocle Version: 2.28.0 Maintainer: Cole Trapnell MaintainerEmail: coletrap at uw.edu