Package: minfi Version: 1.46.0 Command: /Library/Frameworks/R.framework/Resources/bin/R CMD check --install=check:minfi.install-out.txt --library=/Library/Frameworks/R.framework/Resources/library --no-vignettes --timings minfi_1.46.0.tar.gz StartedAt: 2023-10-18 07:45:44 -0400 (Wed, 18 Oct 2023) EndedAt: 2023-10-18 07:59:33 -0400 (Wed, 18 Oct 2023) EllapsedTime: 828.8 seconds RetCode: 0 Status: OK CheckDir: minfi.Rcheck Warnings: 0