Package: mina Version: 1.8.0 Command: /Library/Frameworks/R.framework/Resources/bin/R CMD check --install=check:mina.install-out.txt --library=/Library/Frameworks/R.framework/Resources/library --no-vignettes --timings mina_1.8.0.tar.gz StartedAt: 2023-10-18 07:41:16 -0400 (Wed, 18 Oct 2023) EndedAt: 2023-10-18 07:48:22 -0400 (Wed, 18 Oct 2023) EllapsedTime: 425.5 seconds RetCode: 0 Status: WARNINGS CheckDir: mina.Rcheck Warnings: 1