Package: mina Version: 1.8.0 Command: rm -rf mina.buildbin-libdir && mkdir mina.buildbin-libdir && /Users/biocbuild/BBS/utils/build-universal.sh mina_1.8.0.tar.gz /Library/Frameworks/R.framework/Resources/bin/R mina.buildbin-libdir StartedAt: 2023-10-19 14:55:21 -0400 (Thu, 19 Oct 2023) EndedAt: 2023-10-19 14:56:57 -0400 (Thu, 19 Oct 2023) EllapsedTime: 96.0 seconds RetCode: 0 Status: OK PackageFile: mina_1.8.0.tgz PackageFileSize: 7.661 MiB