Package: microbiomeDASim Version: 1.14.0 Command: /Library/Frameworks/R.framework/Resources/bin/R CMD build --keep-empty-dirs --no-resave-data microbiomeDASim StartedAt: 2023-10-16 09:53:33 -0400 (Mon, 16 Oct 2023) EndedAt: 2023-10-16 09:54:57 -0400 (Mon, 16 Oct 2023) EllapsedTime: 84.4 seconds RetCode: 0 Status: OK PackageFile: microbiomeDASim_1.14.0.tar.gz PackageFileSize: 1.498 MiB