Package: miRNAtap Version: 1.34.0 Command: /Library/Frameworks/R.framework/Resources/bin/R CMD build --keep-empty-dirs --no-resave-data miRNAtap StartedAt: 2023-10-16 10:13:03 -0400 (Mon, 16 Oct 2023) EndedAt: 2023-10-16 10:14:15 -0400 (Mon, 16 Oct 2023) EllapsedTime: 72.1 seconds RetCode: 0 Status: OK PackageFile: miRNAtap_1.34.0.tar.gz PackageFileSize: 222.9 KiB