Package: miRNAtap Version: 1.34.0 Command: rm -rf miRNAtap.buildbin-libdir && mkdir miRNAtap.buildbin-libdir && /Users/biocbuild/BBS/utils/build-universal.sh miRNAtap_1.34.0.tar.gz /Library/Frameworks/R.framework/Resources/bin/R miRNAtap.buildbin-libdir StartedAt: 2023-10-19 14:58:49 -0400 (Thu, 19 Oct 2023) EndedAt: 2023-10-19 14:59:28 -0400 (Thu, 19 Oct 2023) EllapsedTime: 39.1 seconds RetCode: 0 Status: OK PackageFile: miRNAtap_1.34.0.tgz PackageFileSize: 569.1 KiB