Package: mfa Version: 1.22.0 Command: /Library/Frameworks/R.framework/Resources/bin/R CMD build --keep-empty-dirs --no-resave-data mfa StartedAt: 2023-10-16 09:47:26 -0400 (Mon, 16 Oct 2023) EndedAt: 2023-10-16 09:48:32 -0400 (Mon, 16 Oct 2023) EllapsedTime: 66.6 seconds RetCode: 0 Status: OK PackageFile: mfa_1.22.0.tar.gz PackageFileSize: 531.4 KiB